BEGIN:VCALENDAR
VERSION:2.0
PRODID:-//candlesholocaustmuseum.org//NONSGML kigkonsult.se iCalcreator 2.3
 0.10//
CALSCALE:GREGORIAN
METHOD:PUBLISH
UID:3cdad381-f76f-48bf-ba1b-05dc6ac2b117
X-WR-CALDESC:
X-WR-RELCALID:6f31847b2bdfc1fa45bc9e204115efc3
X-WR-TIMEZONE:America/Indiana/Indianapolis
BEGIN:VTIMEZONE
TZID:America/Indiana/Indianapolis
BEGIN:STANDARD
TZNAME:EST
DTSTART:20241103T020000
TZOFFSETFROM:-0400
TZOFFSETTO:-0500
RDATE:20251102T020000
END:STANDARD
BEGIN:DAYLIGHT
TZNAME:EDT
DTSTART:20240310T020000
TZOFFSETFROM:-0500
TZOFFSETTO:-0400
RDATE:20250309T020000
RDATE:20260308T020000
END:DAYLIGHT
END:VTIMEZONE
BEGIN:VEVENT
UID:6ad6a6ba-d2ed-4fce-b2e0-81868800584c
DTSTAMP:20260423T082418Z
DESCRIPTION:
DTSTART;TZID=America/Indiana/Indianapolis:20250124T100000
DTEND;TZID=America/Indiana/Indianapolis:20250124T160000
LOCATION:
SUMMARY:Museum is Open to Visitors
END:VEVENT
END:VCALENDAR
