BEGIN:VCALENDAR
VERSION:2.0
PRODID:-//candlesholocaustmuseum.org//NONSGML kigkonsult.se iCalcreator 2.3
 0.10//
CALSCALE:GREGORIAN
METHOD:PUBLISH
UID:f18f49fc-009e-4097-82e3-0feebddfa610
X-WR-CALDESC:
X-WR-RELCALID:947dfabc5c94ac2b67133bbaf2dda1ab
X-WR-TIMEZONE:America/Indiana/Indianapolis
BEGIN:VTIMEZONE
TZID:America/Indiana/Indianapolis
BEGIN:STANDARD
TZNAME:EST
DTSTART:20241103T020000
TZOFFSETFROM:-0400
TZOFFSETTO:-0500
RDATE:20251102T020000
END:STANDARD
BEGIN:DAYLIGHT
TZNAME:EDT
DTSTART:20240310T020000
TZOFFSETFROM:-0500
TZOFFSETTO:-0400
RDATE:20250309T020000
RDATE:20260308T020000
END:DAYLIGHT
END:VTIMEZONE
BEGIN:VEVENT
UID:5e3d609b-4575-4664-adcc-848e5bc9d87e
DTSTAMP:20260419T135028Z
DESCRIPTION:
DTSTART;TZID=America/Indiana/Indianapolis:20250109T100000
DTEND;TZID=America/Indiana/Indianapolis:20250109T160000
LOCATION:
SUMMARY:Museum is Open to Visitors
END:VEVENT
END:VCALENDAR
