BEGIN:VCALENDAR
VERSION:2.0
PRODID:-//candlesholocaustmuseum.org//NONSGML kigkonsult.se iCalcreator 2.3
 0.10//
CALSCALE:GREGORIAN
METHOD:PUBLISH
UID:8cef23d6-7ab7-4234-94f2-e7c84e03caae
X-WR-CALDESC:
X-WR-RELCALID:1417c50eaac1e4878ae267c5a4229ce7
X-WR-TIMEZONE:America/Indiana/Indianapolis
BEGIN:VTIMEZONE
TZID:America/Indiana/Indianapolis
BEGIN:STANDARD
TZNAME:EST
DTSTART:20241103T020000
TZOFFSETFROM:-0400
TZOFFSETTO:-0500
RDATE:20251102T020000
END:STANDARD
BEGIN:DAYLIGHT
TZNAME:EDT
DTSTART:20240310T020000
TZOFFSETFROM:-0500
TZOFFSETTO:-0400
RDATE:20250309T020000
RDATE:20260308T020000
END:DAYLIGHT
END:VTIMEZONE
BEGIN:VEVENT
UID:d4bfcd27-5ca0-4b5a-b5d2-8639aeef2dda
DTSTAMP:20260423T082258Z
DESCRIPTION:
DTSTART;TZID=America/Indiana/Indianapolis:20250104T100000
DTEND;TZID=America/Indiana/Indianapolis:20250104T160000
LOCATION:
SUMMARY:Museum is Open to Visitors
END:VEVENT
END:VCALENDAR
