BEGIN:VCALENDAR
VERSION:2.0
PRODID:-//candlesholocaustmuseum.org//NONSGML kigkonsult.se iCalcreator 2.3
 0.10//
CALSCALE:GREGORIAN
METHOD:PUBLISH
UID:79ed3fe2-d286-4aaf-a7d5-61b47955344b
X-WR-CALDESC:
X-WR-RELCALID:91fbbeb21b30f661eead0f34cf2761cc
X-WR-TIMEZONE:America/New_York
BEGIN:VTIMEZONE
TZID:America/New_York
BEGIN:STANDARD
TZNAME:EST
DTSTART:20191103T020000
TZOFFSETFROM:-0400
TZOFFSETTO:-0500
RDATE:20201101T020000
RDATE:20211107T020000
END:STANDARD
BEGIN:DAYLIGHT
TZNAME:EDT
DTSTART:20200308T020000
TZOFFSETFROM:-0500
TZOFFSETTO:-0400
RDATE:20210314T020000
RDATE:20220313T020000
END:DAYLIGHT
END:VTIMEZONE
BEGIN:VEVENT
UID:c0363e4e-0d0b-48b0-8567-6d1eea0972d9
DTSTAMP:20260425T110222Z
DESCRIPTION:
DTSTART;TZID=America/New_York:20201101T000000
DTEND;TZID=America/New_York:20201104T225900
LOCATION:
SUMMARY:Museum Closed
END:VEVENT
END:VCALENDAR
