BEGIN:VCALENDAR
VERSION:2.0
PRODID:-//candlesholocaustmuseum.org//NONSGML kigkonsult.se iCalcreator 2.3
 0.10//
CALSCALE:GREGORIAN
METHOD:PUBLISH
UID:ae8c4002-4136-46f0-b080-954eea0f6c6c
X-WR-CALDESC:Anna is available to give guided tours to guests between 10:00
  am - 1:00 pm EST.
X-WR-RELCALID:e814bfe18ad13dcabaeb1ff220381fc0
X-WR-TIMEZONE:America/New_York
BEGIN:VTIMEZONE
TZID:America/New_York
BEGIN:STANDARD
TZNAME:EST
DTSTART:20191103T020000
TZOFFSETFROM:-0400
TZOFFSETTO:-0500
RDATE:20201101T020000
END:STANDARD
BEGIN:DAYLIGHT
TZNAME:EDT
DTSTART:20200308T020000
TZOFFSETFROM:-0500
TZOFFSETTO:-0400
RDATE:20210314T020000
END:DAYLIGHT
END:VTIMEZONE
BEGIN:VEVENT
UID:2536148f-d4ee-4c93-af8d-c4eb0a2fa2fa
DTSTAMP:20260425T213237Z
DESCRIPTION:Anna is available to give guided tours to guests between 10:00 
 am - 1:00 pm EST.
DTSTART;TZID=America/New_York:20200324T100000
DTEND;TZID=America/New_York:20200324T130000
LOCATION:1532 S. 3rd Street Terre Haute\, IN 47802
SUMMARY:Docent: Anna Carson
END:VEVENT
END:VCALENDAR
